BEGIN:VCALENDAR
VERSION:2.0
PRODID:-//ChamberMaster//Event Calendar 2.0//EN
METHOD:PUBLISH
X-PUBLISHED-TTL:P3D
REFRESH-INTERVAL:P3D
CALSCALE:GREGORIAN
BEGIN:VEVENT
DTSTART:20170428T160000Z
DTEND:20170428T230000Z
X-MICROSOFT-CDO-ALLDAYEVENT:FALSE
SUMMARY:Fry Jordan & Wilson Open House
DESCRIPTION:Mark your calendars for Fry\, Jordan & Wilson's open house. EVERYONE is welcome! Be sure to bring the kids. They will have food\, balloons\, an inflatable and much more. Stop by and register for the random drawing. A soft sided YETI Cooler will be given away.
X-ALT-DESC;FMTTYPE=text/html:<span style="color: rgb(75\, 79\, 86)\; font-family: 'San Francisco'\, -apple-system\, BlinkMacSystemFont\, '.SFNSText-Regular'\, sans-serif\; font-size: 14px\; letter-spacing: -0.23999999463558197px\;">Mark your calendars for Fry\, Jordan &amp\; Wilson&#39\;s open house. EVERYONE is welcome! Be sure to bring the kids. They will have food\, balloons\, an inflatable and much more. Stop by and register for the random drawing. A soft sided YETI Cooler will be given away.</span>
LOCATION:Fry\, Jordan\, and Wilso Insurance Company 830 Wilborn Ave. South Boston\, VA 24592
UID:e.845.5867
SEQUENCE:3
DTSTAMP:20260424T113952Z
URL:https://business.halifaxchamber.net/events/details/fry-jordan-wilson-open-house-5867
END:VEVENT

END:VCALENDAR
