BEGIN:VCALENDAR
VERSION:2.0
PRODID:-//ChamberMaster//Event Calendar 2.0//EN
METHOD:PUBLISH
X-PUBLISHED-TTL:P3D
REFRESH-INTERVAL:P3D
CALSCALE:GREGORIAN
BEGIN:VEVENT
DTSTART:20190417T180000Z
DTEND:20190417T190000Z
X-MICROSOFT-CDO-ALLDAYEVENT:FALSE
SUMMARY:Fun In The Garden KITE DAY
DESCRIPTION:Bring your own kite\, or one will be provided.\n\nTour of Southern Virginia Botanical Gardens. Refreshments provided.\n\nFor more information call Agnes Gregory at 572-7246
X-ALT-DESC;FMTTYPE=text/html:Bring your own kite\, or one will be provided.<br />\nTour of Southern Virginia Botanical Gardens. Refreshments provided.<br />\nFor more information call Agnes Gregory at 572-7246
LOCATION:Southern Virginia Botanical Gardens Edmunds Park\, South Boston 1087 Bellevue Rd. Halifax\, VA 24558
UID:e.845.12438
SEQUENCE:3
DTSTAMP:20260421T080103Z
URL:https://business.halifaxchamber.net/events/details/fun-in-the-garden-kite-day-12438
END:VEVENT

END:VCALENDAR
