BEGIN:VCALENDAR
VERSION:2.0
PRODID:-//ChamberMaster//Event Calendar 2.0//EN
METHOD:PUBLISH
X-PUBLISHED-TTL:P3D
REFRESH-INTERVAL:P3D
CALSCALE:GREGORIAN
BEGIN:VEVENT
DTSTART:20151019T213000Z
DTEND:20151019T224500Z
X-MICROSOFT-CDO-ALLDAYEVENT:FALSE
SUMMARY:Fusion Fitness Dance
DESCRIPTION:Move to the rhythm and beat of high energy music.  No Dance Experience Necessary.
X-ALT-DESC;FMTTYPE=text/html:<p>\n	Move to the rhythm and beat of high energy music.&nbsp\; No Dance Experience Necessary.</p>\n
LOCATION:Moving Voices Studio 419 Main Street South Boston\, VA
UID:e.845.1005
SEQUENCE:3
DTSTAMP:20260425T174837Z
URL:https://business.halifaxchamber.net/events/details/fusion-fitness-dance-10-19-2015-1005
END:VEVENT

END:VCALENDAR
