BEGIN:VCALENDAR
VERSION:2.0
PRODID:-//ChamberMaster//Event Calendar 2.0//EN
METHOD:PUBLISH
X-PUBLISHED-TTL:P3D
REFRESH-INTERVAL:P3D
CALSCALE:GREGORIAN
BEGIN:VEVENT
DTSTART:20190209T160000Z
DTEND:20190209T220000Z
X-MICROSOFT-CDO-ALLDAYEVENT:FALSE
SUMMARY:Galentine's Day
DESCRIPTION:We are hosting a fun pre Valentines Day to treat yourslef or come get the perfect treats to share with your Valentine. Candy\, wine\, jamberry nails\, grapevine crafts\, and gift baskets available!!!\n\nServing treats while you sip and shop. Guys are invited too.
X-ALT-DESC;FMTTYPE=text/html:We are hosting a fun pre Valentines Day to treat yourslef or come get the perfect treats to share with your Valentine. Candy\, wine\, jamberry nails\, grapevine crafts\, and gift baskets available!!!<br />\nServing treats while you sip and shop. Guys are invited too.
LOCATION:Hunting Creek VIneyards 2000 Addie Williams Trl Clover\, VA 24534
UID:e.845.11706
SEQUENCE:3
DTSTAMP:20260421T122234Z
URL:https://business.halifaxchamber.net/events/details/galentine-s-day-11706
END:VEVENT

END:VCALENDAR
