BEGIN:VCALENDAR
VERSION:2.0
PRODID:-//ChamberMaster//Event Calendar 2.0//EN
METHOD:PUBLISH
X-PUBLISHED-TTL:P3D
REFRESH-INTERVAL:P3D
CALSCALE:GREGORIAN
BEGIN:VEVENT
DTSTART:20161218T190000Z
DTEND:20161218T220000Z
X-MICROSOFT-CDO-ALLDAYEVENT:FALSE
SUMMARY:Galleria d'arte Presents Trish Owen
DESCRIPTION:These vibrant\, abstracted landscapes are perfect to add color and brighten up any space. Be sure to grab a mimosa and some hors d'oeuvres while browsing tons of original holiday gift ideas.
X-ALT-DESC;FMTTYPE=text/html:These vibrant\, abstracted landscapes are perfect to add color and brighten up any space. Be sure to grab a mimosa and some hors d&#39\;oeuvres while browsing tons of original holiday gift ideas.
LOCATION:217 N. Main Street South Boston\, VA 24592
UID:e.845.5750
SEQUENCE:3
DTSTAMP:20260424T181222Z
URL:https://business.halifaxchamber.net/events/details/galleria-d-arte-presents-trish-owen-5750
END:VEVENT

END:VCALENDAR
