BEGIN:VCALENDAR
VERSION:2.0
PRODID:-//ChamberMaster//Event Calendar 2.0//EN
METHOD:PUBLISH
X-PUBLISHED-TTL:P3D
REFRESH-INTERVAL:P3D
CALSCALE:GREGORIAN
BEGIN:VEVENT
DTSTART:20190616T170000Z
DTEND:20190616T210000Z
X-MICROSOFT-CDO-ALLDAYEVENT:FALSE
SUMMARY:Game Day at the Distillery
DESCRIPTION:Grab your Dads\, Husbands and Sons and bring them out for a fun-filled day at the Distillery. \n\nWe will have badminton\, corn hole\, giant jenga\, horse shoes\, ladder toss and a crazy hose for the kids! \n\nFull Circle Pizza will be grilling pizzas for you to enjoy!
X-ALT-DESC;FMTTYPE=text/html:Grab your Dads\, Husbands and Sons and bring them out for a fun-filled day at the Distillery.&nbsp\;<br />\nWe will have badminton\, corn hole\, giant jenga\, horse shoes\, ladder toss and a crazy hose for the kids!&nbsp\;<br />\nFull Circle Pizza will be grilling pizzas for you to enjoy!&nbsp\;
LOCATION:9040 River Road Halifax\, VA 24558
UID:e.845.13196
SEQUENCE:3
DTSTAMP:20260421T044103Z
URL:https://business.halifaxchamber.net/events/details/game-day-at-the-distillery-13196
END:VEVENT

END:VCALENDAR
