BEGIN:VCALENDAR
VERSION:2.0
PRODID:-//ChamberMaster//Event Calendar 2.0//EN
METHOD:PUBLISH
X-PUBLISHED-TTL:P3D
REFRESH-INTERVAL:P3D
CALSCALE:GREGORIAN
BEGIN:VEVENT
DTSTART:20181216T010000Z
DTEND:20181216T030000Z
X-MICROSOFT-CDO-ALLDAYEVENT:FALSE
SUMMARY:Gemini Meteor Shower Observing Session
DESCRIPTION:Join park staff and members of the Chapel Hill Astronomical and Observational Society for a special astronomy session. We will be viewing the Geminid Meteor Shower and we will have telescopes set up to view other objects in the night sky as well. Feel free to bring your own telescope. Dress warmly as it will most likely be cold. You are welcome to bring blankets or chairs as well.\n\nPlease park in the Visitor Center parking lot or the pool parking lot and not on the observing field.
X-ALT-DESC;FMTTYPE=text/html:<span style="font-family: Geneva\, Arial\, Helvetica\, sans-serif\; font-size: 14px\; background-color: rgb(255\, 255\, 255)\;">Join park staff and members of the Chapel Hill Astronomical and Observational Society for a special astronomy session. We will be viewing the Geminid Meteor Shower and we will have telescopes set up to view other objects in the night sky as well. Feel free to bring your own telescope. Dress warmly as it will most likely be cold. You are welcome to bring blankets or chairs as well.</span><br style="font-family: Geneva\, Arial\, Helvetica\, sans-serif\; font-size: 14px\;" />\n<span style="font-family: Geneva\, Arial\, Helvetica\, sans-serif\; font-size: 14px\; background-color: rgb(255\, 255\, 255)\;">Please park in the Visitor Center parking lot or the pool parking lot and not on the observing field.</span>
LOCATION:Visitor Center Staunton River State Park 1170 Staunton Trail\, Scottsburg\, VA
UID:e.845.9435
SEQUENCE:3
DTSTAMP:20260421T135711Z
URL:https://business.halifaxchamber.net/events/details/gemini-meteor-shower-observing-session-9435
END:VEVENT

END:VCALENDAR
