BEGIN:VCALENDAR
VERSION:2.0
PRODID:-//ChamberMaster//Event Calendar 2.0//EN
METHOD:PUBLISH
X-PUBLISHED-TTL:P3D
REFRESH-INTERVAL:P3D
CALSCALE:GREGORIAN
BEGIN:VEVENT
DTSTART:20190606T190000Z
DTEND:20190606T220000Z
X-MICROSOFT-CDO-ALLDAYEVENT:FALSE
SUMMARY:Get The Keys with Tri-County Community Action Agency
DESCRIPTION:Join Tri-County Community Action Agency in their Annual Housing Event. \n\nGet The Keys - Steps Toward Homeownership\n\nHomes financed by USDA\n\nNo down payment/ Minimal closing cost/ 30-38 year financing/ Monthly payment assistance - must qualify\n\nHome repair programs also available\n\n\n\nFor information call 434.404.3455 Ext. 315 or Ext. 316
X-ALT-DESC;FMTTYPE=text/html:<span style="font-size:16px\;">Join Tri-County Community Action Agency in their Annual Housing Event.&nbsp\;<br />\nGet The Keys - Steps Toward Homeownership</span><br />\nHomes financed by USDA<br />\nNo down payment/ Minimal closing cost/ 30-38 year financing/ Monthly payment assistance - must qualify<br />\nHome repair programs also available<br />\n<br />\n<span style="font-size:14px\;">For information call 434.404.3455 Ext. 315 or Ext. 316</span>
LOCATION:Constituation Square South Boston\, VA
UID:e.845.13140
SEQUENCE:3
DTSTAMP:20260421T044507Z
URL:https://business.halifaxchamber.net/events/details/get-the-keys-with-tri-county-community-action-agency-13140
END:VEVENT

END:VCALENDAR
