BEGIN:VCALENDAR
VERSION:2.0
PRODID:-//ChamberMaster//Event Calendar 2.0//EN
METHOD:PUBLISH
X-PUBLISHED-TTL:P3D
REFRESH-INTERVAL:P3D
CALSCALE:GREGORIAN
BEGIN:VEVENT
DTSTART:20160308T230000Z
DTEND:20160311T020000Z
X-MICROSOFT-CDO-ALLDAYEVENT:FALSE
SUMMARY:Get to Know QuickBooks
DESCRIPTION:This is a two part workshop presented by Brenda Terry\, Accounting Manager SVHEC.\n\n\n\nInstruction will be a " HANDS ON" version of QuickBooks 2015\n\n\n\n\n\nSoftware Setup & Capabilities\n\nThis is an informative seminar for new and existing businesses. This seminar will help you determine how QuickBooks may simplify and organize your accounting and bookkeeping needs.\n\n\n\nGetting Set up and Started\n\nWorking with Lists ( Chart of Accounts\, Vendors and Customers)\n\nEntering Sales Information\n\nReceiving and Entering Payments\n\nEntering and Paying Bills\n\nBank Accounts\n\nReporting
X-ALT-DESC;FMTTYPE=text/html:<br />\n<br />\nThis is a two part workshop presented by Brenda Terry\, Accounting Manager SVHEC.<br />\n<br />\nInstruction will be a &quot\; HANDS ON&quot\; version of QuickBooks 2015<br />\n<br />\n<br />\nSoftware Setup &amp\; Capabilities<br />\nThis is an informative seminar for new and existing businesses. This seminar will help you determine how QuickBooks may simplify and organize your accounting and bookkeeping needs.<br />\n<br />\nGetting Set up and Started<br />\nWorking with Lists ( Chart of Accounts\, Vendors and Customers)<br />\nEntering Sales Information<br />\nReceiving and Entering Payments<br />\nEntering and Paying Bills<br />\nBank Accounts<br />\nReporting<br />\n<br />\n&nbsp\;
LOCATION:Southern Virginia Higher Education Center Rm. Anthem A 820 Bruce Street South Boston\, VA
UID:e.845.4566
SEQUENCE:3
DTSTAMP:20260425T111312Z
URL:https://business.halifaxchamber.net/events/details/get-to-know-quickbooks-03-08-2016-4566
END:VEVENT

END:VCALENDAR
