BEGIN:VCALENDAR
VERSION:2.0
PRODID:-//ChamberMaster//Event Calendar 2.0//EN
METHOD:PUBLISH
X-PUBLISHED-TTL:P3D
REFRESH-INTERVAL:P3D
CALSCALE:GREGORIAN
BEGIN:VEVENT
DTSTART:20190831T010000Z
DTEND:20190831T035500Z
X-MICROSOFT-CDO-ALLDAYEVENT:FALSE
SUMMARY:Get Your Country On For Caroline
DESCRIPTION:JOIN US TO SHOW YOUR SUPPORT FOR CAROLINE LAUGHORN\n\nAUGUST 30TH\n\n9:00PM   MIDNIGHT\n\nAT JB'S BURGERS\, APPS\, & TAPS\n\nMUSIC BY\n\nMATTBOSWELL\n\nDOOR PRIZES\n\nWITH THE PURCHASE OF RAFFLE TICKETS\n\n1 TICKET FOR $1\, 8 TICKETS FOR $5\, OR 15 TICKETS FOR $10\n\n$5 CASH COVER\n\nALL MONEY RAISED WILL BE DONATED TO THE FAMILY.
X-ALT-DESC;FMTTYPE=text/html:<div>\n<div>\n<div>\n<div>\n<h1 style="text-align: center\;"><span style="color:#9933cc"><span style="font-family:impact\; font-size:20pt">JOIN US TO SHOW YOUR SUPPORT FOR CAROLINE LAUGHORN</span></span></h1>\n\n<h1 style="text-align: center\;"><span style="font-family:tahoma"><span style="color:#9933cc"><strong>AUGUST 30</strong><strong>TH</strong></span></span></h1>\n\n<h1 style="text-align: center\;"><span style="font-family:tahoma"><span style="color:rgb(153\, 51\, 204)\; font-size:18pt">9:00PM&nbsp\;</span><span style="color:rgb(153\, 51\, 204)\; font-size:18pt">&ndash\;&nbsp\;</span><span style="color:rgb(153\, 51\, 204)\; font-size:18pt">MIDNIGHT</span></span></h1>\n\n<h1 style="text-align: center\;"><span style="font-family:tahoma"><span style="color:#9933cc"><span style="font-size:18pt">AT JB&rsquo\;S BURGERS\, APPS\, &amp\; TAPS</span></span></span></h1>\n\n<h1 style="text-align: center\;"><span style="color:#9933cc"><span style="font-family:impact\; font-size:24pt">MUSIC BY</span></span></h1>\n\n<h1 style="text-align: center\;"><span style="color:#FF8C00"><span style="font-family:impact\; font-size:40pt">MATTBOSWELL</span></span></h1>\n\n<h1 style="text-align: center\;"><span style="color:#9933cc"><span style="font-family:impact\; font-size:36pt">DOOR PRIZES</span></span></h1>\n\n<h1 style="text-align: center\;"><span style="font-family:tahoma"><span style="color:#9933cc"><span style="font-size:14pt">WITH THE PURCHASE OF RAFFLE TICKETS</span><br />\n<span style="font-size:11pt">1 TICKET FOR $1\, 8 TICKETS FOR $5\, OR 15 TICKETS FOR $10</span></span></span></h1>\n\n<h1 style="text-align: center\;"><span style="font-family:tahoma"><span style="color:#9933cc"><span style="font-size:14pt">$5 CASH COVER</span><br />\n<span style="font-size:11pt">ALL MONEY RAISED WILL BE DONATED TO THE FAMILY.</span></span></span></h1>\n</div>\n</div>\n</div>\n</div>\n
LOCATION:World of Sports 2030 Bill Tuck Highway South Boston\, VA 24592
UID:e.845.13273
SEQUENCE:3
DTSTAMP:20260421T012356Z
URL:https://business.halifaxchamber.net/events/details/get-your-country-on-for-caroline-13273
END:VEVENT

END:VCALENDAR
