BEGIN:VCALENDAR
VERSION:2.0
PRODID:-//ChamberMaster//Event Calendar 2.0//EN
METHOD:PUBLISH
X-PUBLISHED-TTL:P3D
REFRESH-INTERVAL:P3D
CALSCALE:GREGORIAN
BEGIN:VEVENT
DTSTART:20180621T200000Z
DTEND:20180621T230000Z
X-MICROSOFT-CDO-ALLDAYEVENT:FALSE
SUMMARY:Getting The Keys-Steps Toward Home Ownership
DESCRIPTION:Members of USDA and Tri-County Community Action Agency will be on site.
X-ALT-DESC;FMTTYPE=text/html:Members of USDA and Tri-County Community Action Agency will be on site.
LOCATION:Constitution Square in Downtown South Boston\, VA
UID:e.845.8463
SEQUENCE:3
DTSTAMP:20260422T000537Z
URL:https://business.halifaxchamber.net/events/details/getting-the-keys-steps-toward-home-ownership-8463
END:VEVENT

END:VCALENDAR
