BEGIN:VCALENDAR
VERSION:2.0
PRODID:-//ChamberMaster//Event Calendar 2.0//EN
METHOD:PUBLISH
X-PUBLISHED-TTL:P3D
REFRESH-INTERVAL:P3D
CALSCALE:GREGORIAN
BEGIN:VEVENT
DTSTART:20171021T210000Z
DTEND:20171021T230000Z
X-MICROSOFT-CDO-ALLDAYEVENT:FALSE
SUMMARY:Giggles & Squiggles
DESCRIPTION:Paint night is the perfect excuse to get together with your friends for a couple of hours!  \n\n\n\nWhite Pumpkin Painting on Canvas \n\n\n\nReserve your spot by October 14th\n\nPrepayment required.
X-ALT-DESC;FMTTYPE=text/html:Paint night is the perfect excuse to get together with your friends for a couple of hours! &nbsp\;<br />\n<br />\nWhite Pumpkin Painting on Canvas&nbsp\;<br />\n<br />\nReserve your spot by October 14th<br />\nPrepayment required.
LOCATION:Sweet Cee's 441 Main Street South Boston\, VA
UID:e.845.7130
SEQUENCE:3
DTSTAMP:20260422T135316Z
URL:https://business.halifaxchamber.net/events/details/giggles-squiggles-7130
END:VEVENT

END:VCALENDAR
