BEGIN:VCALENDAR
VERSION:2.0
PRODID:-//ChamberMaster//Event Calendar 2.0//EN
METHOD:PUBLISH
X-PUBLISHED-TTL:P3D
REFRESH-INTERVAL:P3D
CALSCALE:GREGORIAN
BEGIN:VEVENT
DTSTART:20200313T220000Z
DTEND:20200314T000000Z
X-MICROSOFT-CDO-ALLDAYEVENT:FALSE
SUMMARY:Girl's Night Out Workshop
DESCRIPTION:Grab your girlfriends and head over to Wister's for a fun girls' night out on the town on March 12th! We'll spend the evening making beautiful floral arrangements and cheers'ing with a glass of vino! The party starts at 6pm with a demo by yours truly and then you'll get creative and make your own!
X-ALT-DESC;FMTTYPE=text/html:<span style="color: rgb(29\, 33\, 41)\; font-family: system-ui\, -apple-system\, system-ui\, &quot\;.SFNSText-Regular&quot\;\, sans-serif\; font-size: 14px\; white-space: pre-wrap\;">Grab your girlfriends and head over to Wister&rsquo\;s for a fun girls&rsquo\; night out on the town on March 12th! We&rsquo\;ll spend the evening making beautiful floral arrangements and cheers&rsquo\;ing with a glass of vino! The party starts at 6pm with a demo by yours truly and then you&rsquo\;ll get creative and make your own!</span>
LOCATION:441 Main Street South Boston\, VA 24592
UID:e.845.17459
SEQUENCE:3
DTSTAMP:20260420T131939Z
URL:https://business.halifaxchamber.net/events/details/girl-s-night-out-workshop-17459
END:VEVENT

END:VCALENDAR
