BEGIN:VCALENDAR
VERSION:2.0
PRODID:-//ChamberMaster//Event Calendar 2.0//EN
METHOD:PUBLISH
X-PUBLISHED-TTL:P3D
REFRESH-INTERVAL:P3D
CALSCALE:GREGORIAN
BEGIN:VEVENT
DTSTART:20210315T213000Z
DTEND:20210315T230000Z
X-MICROSOFT-CDO-ALLDAYEVENT:FALSE
SUMMARY:Girls on the Run at The Y
DESCRIPTION:Join the YMCA for their Girls on the Run program. Girls grades 3-8 welcome.\n\nLearn more and register online at http://girlsontheruncenva.org.
X-ALT-DESC;FMTTYPE=text/html:Join the YMCA for their Girls on the Run program. Girls grades 3-8 welcome.<br />\nLearn more and register online at&nbsp\;<a href="http://girlsontheruncenva.org">http://girlsontheruncenva.org</a>.<br />\n&nbsp\;
LOCATION:Halifax High School Track
UID:e.845.17844
SEQUENCE:3
DTSTAMP:20260419T183425Z
URL:https://business.halifaxchamber.net/events/details/girls-on-the-run-at-the-y-03-15-2021-17844
END:VEVENT

END:VCALENDAR
