BEGIN:VCALENDAR
VERSION:2.0
PRODID:-//ChamberMaster//Event Calendar 2.0//EN
METHOD:PUBLISH
X-PUBLISHED-TTL:P3D
REFRESH-INTERVAL:P3D
CALSCALE:GREGORIAN
BEGIN:VEVENT
DTSTART;VALUE=DATE:20171128
DTEND;VALUE=DATE:20171129
TRANSP:TRANSPARENT
X-MICROSOFT-CDO-ALLDAYEVENT:TRUE
SUMMARY:#givingtuesday
DESCRIPTION:#GivingTuesday is a global day of giving fueled by the power of social media and collaboration. \n\n\n\n#GivingTuesday kicks off the charitable season\, when many focus on their holiday and end-of-year giving. #GivingTuesday has become a movement that celebrates and supports giving and philanthrophy with events throughout the year.
X-ALT-DESC;FMTTYPE=text/html:#GivingTuesday is a global day of giving fueled by the power of social media and collaboration.&nbsp\;<br />\n<br />\n#GivingTuesday&nbsp\;kicks off the charitable season\, when many focus on their holiday and end-of-year giving. #GivingTuesday&nbsp\;has become a movement that celebrates and supports giving and philanthrophy with events throughout the year.
LOCATION:Tuesday\, November 28th
UID:e.845.7147
SEQUENCE:3
DTSTAMP:20260422T120824Z
URL:https://business.halifaxchamber.net/events/details/givingtuesday-7147
END:VEVENT

END:VCALENDAR
