BEGIN:VCALENDAR
VERSION:2.0
PRODID:-//ChamberMaster//Event Calendar 2.0//EN
METHOD:PUBLISH
X-PUBLISHED-TTL:P3D
REFRESH-INTERVAL:P3D
CALSCALE:GREGORIAN
BEGIN:VEVENT
DTSTART:20180816T153000Z
DTEND:20180816T160000Z
X-MICROSOFT-CDO-ALLDAYEVENT:FALSE
SUMMARY:GoDocs Ribbon Cutting
DESCRIPTION:Join GoDocs as they celebrate their new location in South Boston\, VA with a ribbon cutting event!  Meet the staff and learn more about what GoDocs brings to the area.
X-ALT-DESC;FMTTYPE=text/html:Join GoDocs as they celebrate their new location in South Boston\, VA with a ribbon cutting event!&nbsp\; Meet the staff and learn more about what GoDocs brings to the area.
LOCATION:3130 Halifax Road Suite B South Boston\, Virginia
UID:e.845.8490
SEQUENCE:3
DTSTAMP:20260421T204132Z
URL:https://business.halifaxchamber.net/events/details/godocs-ribbon-cutting-8490
END:VEVENT

END:VCALENDAR
