BEGIN:VCALENDAR
VERSION:2.0
PRODID:-//ChamberMaster//Event Calendar 2.0//EN
METHOD:PUBLISH
X-PUBLISHED-TTL:P3D
REFRESH-INTERVAL:P3D
CALSCALE:GREGORIAN
BEGIN:VEVENT
DTSTART:20190109T140000Z
DTEND:20190110T010000Z
X-MICROSOFT-CDO-ALLDAYEVENT:FALSE
SUMMARY:Goodwill Grand Reopening
DESCRIPTION:Thanks to our donors...\n\nJanuary 9th\, twice the treasures will be in the Goodwill store!\n\n"Our South Boston Goodwill is going to be cleaner\, have better lighting\, and twice the hunting treasures with increased space."-President/CEO Woody Van Valkenburgh\n\nEnjoy major discounts and deals for the whole family.\n\n\n\nLiquidation sale: January 3-January 5 ALL items 50% off. \n\n\n\nThe store will be closed January 6\, 2019-January 8\, 2019
X-ALT-DESC;FMTTYPE=text/html:Thanks to our donors...<br />\nJanuary 9th\, twice the treasures will be in the Goodwill store!<br />\n&quot\;Our South Boston Goodwill is going to be cleaner\, have better lighting\, and twice the hunting treasures with increased space.&quot\;-President/CEO Woody Van Valkenburgh<br />\nEnjoy major discounts and deals for the whole family.<br />\n<br />\nLiquidation sale: January 3-January 5 ALL items 50% off.&nbsp\;<br />\n<br />\nThe store will be closed January 6\, 2019-January 8\, 2019
LOCATION:4125 Halifax Road South Boston\, VA
UID:e.845.11672
SEQUENCE:3
DTSTAMP:20260421T135213Z
URL:https://business.halifaxchamber.net/events/details/goodwill-grand-reopening-11672
END:VEVENT

END:VCALENDAR
