BEGIN:VCALENDAR
VERSION:2.0
PRODID:-//ChamberMaster//Event Calendar 2.0//EN
METHOD:PUBLISH
X-PUBLISHED-TTL:P3D
REFRESH-INTERVAL:P3D
CALSCALE:GREGORIAN
BEGIN:VEVENT
DTSTART:20200201T223000Z
DTEND:20200202T010000Z
X-MICROSOFT-CDO-ALLDAYEVENT:FALSE
SUMMARY:Gospel Celebration
DESCRIPTION:An evening filled with Good Gospel Singing from local groups and groups from surrounding counties\, praise dancers and poetry.
X-ALT-DESC;FMTTYPE=text/html:An evening filled with Good Gospel Singing from local groups and groups from surrounding counties\, praise dancers and poetry.
LOCATION:The Prizery - Chastain Theatre 700 Bruce Street South Boston\, VA 24592
UID:e.845.15584
SEQUENCE:3
DTSTAMP:20260420T163740Z
URL:https://business.halifaxchamber.net/events/details/gospel-celebration-15584
END:VEVENT

END:VCALENDAR
