BEGIN:VCALENDAR
VERSION:2.0
PRODID:-//ChamberMaster//Event Calendar 2.0//EN
METHOD:PUBLISH
X-PUBLISHED-TTL:P3D
REFRESH-INTERVAL:P3D
CALSCALE:GREGORIAN
BEGIN:VEVENT
DTSTART:20210619T120000Z
DTEND:20210619T160000Z
X-MICROSOFT-CDO-ALLDAYEVENT:FALSE
SUMMARY:Grand Opening Celebration at the Downtown South Boston Farmers Market
DESCRIPTION:
X-ALT-DESC;FMTTYPE=text/html:
LOCATION:Downtown South Boston Farmers Market 300 Broad St. South Boston\, VA 24592
UID:e.845.17960
SEQUENCE:3
DTSTAMP:20260419T124332Z
URL:https://business.halifaxchamber.net/events/details/grand-opening-celebration-at-the-downtown-south-boston-farmers-market-17960
END:VEVENT

END:VCALENDAR
