BEGIN:VCALENDAR
VERSION:2.0
PRODID:-//ChamberMaster//Event Calendar 2.0//EN
METHOD:PUBLISH
X-PUBLISHED-TTL:P3D
REFRESH-INTERVAL:P3D
CALSCALE:GREGORIAN
BEGIN:VEVENT
DTSTART:20180823T140000Z
DTEND:20180823T220000Z
X-MICROSOFT-CDO-ALLDAYEVENT:FALSE
SUMMARY:Grand Opening Dedication-Golden Era of Halifax County\, Tobacco Exhibit
DESCRIPTION:After years of research and preparation\, the "Golden Era of Halifax County" exhibit will officially open to the public. The exhibit encompasses more than 400 years of history\, from Native American cultivation to modern day.
X-ALT-DESC;FMTTYPE=text/html:After years of research and preparation\, the &quot\;Golden Era of Halifax County&quot\; exhibit will officially open to the public. The exhibit encompasses more than 400 years of history\, from Native American cultivation to modern day.&nbsp\;
LOCATION:South Boston Halifax County Museum of Fine Arts & History
UID:e.845.8494
SEQUENCE:3
DTSTAMP:20260421T204737Z
URL:https://business.halifaxchamber.net/events/details/grand-opening-dedication-golden-era-of-halifax-county-tobacco-exhibit-8494
END:VEVENT

END:VCALENDAR
