BEGIN:VCALENDAR
VERSION:2.0
PRODID:-//ChamberMaster//Event Calendar 2.0//EN
METHOD:PUBLISH
X-PUBLISHED-TTL:P3D
REFRESH-INTERVAL:P3D
CALSCALE:GREGORIAN
BEGIN:VEVENT
DTSTART;VALUE=DATE:20190315
DTEND;VALUE=DATE:20190316
TRANSP:TRANSPARENT
X-MICROSOFT-CDO-ALLDAYEVENT:TRUE
SUMMARY:Grand Opening of the Spa at Berry Hill
DESCRIPTION:South Boston\, Va.   On Friday\, March 15\, Berry Hill Resort will host the grand opening of The Spa at Berry Hill Resort. Located across the pool house and just steps from the hotel entrance\, The Spa is a haven where clients will be pleased to find a warm and spacious environment with transformative treatments for face\, body\, and nails\, together with an exclusive small-batch skin care line. Spa treatments can be booked in advance by calling 434-517-7000.
X-ALT-DESC;FMTTYPE=text/html:<div><span style="font-family:inherit">South Boston\, Va.</span> &mdash\; On Friday\, March 15\, Berry Hill Resort will host the grand opening of The Spa at Berry Hill Resort. Located across the pool house and just steps from the hotel entrance\, The Spa is a haven where clients will be pleased to find a warm and spacious environment with transformative treatments for face\, body\, and nails\, together with an exclusive small-batch skin care line. <em>Spa treatments can be booked in advance by calling 434-517-7000. </em></div>\n
LOCATION:
UID:e.845.12265
SEQUENCE:3
DTSTAMP:20260421T094102Z
URL:https://business.halifaxchamber.net/events/details/grand-opening-of-the-spa-at-berry-hill-12265
END:VEVENT

END:VCALENDAR
