BEGIN:VCALENDAR
VERSION:2.0
PRODID:-//ChamberMaster//Event Calendar 2.0//EN
METHOD:PUBLISH
X-PUBLISHED-TTL:P3D
REFRESH-INTERVAL:P3D
CALSCALE:GREGORIAN
BEGIN:VEVENT
DTSTART:20190420T150000Z
DTEND:20190420T153000Z
X-MICROSOFT-CDO-ALLDAYEVENT:FALSE
SUMMARY:Grand Opening Ribbon Cutting
DESCRIPTION:Join McDonald's of Centerville for a Grand Opening Celebration and ribbon cutting event. \n\n\n\nThe ribbon cutting will be held at 11:00am. \n\n\n\nThere will be mulitple prize giveaways and activities throughout the day.
X-ALT-DESC;FMTTYPE=text/html:Join McDonald&#39\;s of Centerville for a Grand Opening Celebration and ribbon cutting event.&nbsp\;<br />\n<br />\nThe ribbon cutting will be held at 11:00am.&nbsp\;<br />\n<br />\nThere will be mulitple prize giveaways and activities throughout the day.&nbsp\;
LOCATION:McDonald's of Centerville 4040 Halifax Road South Boston\, VA
UID:e.845.12402
SEQUENCE:3
DTSTAMP:20260421T093755Z
URL:https://business.halifaxchamber.net/events/details/grand-opening-ribbon-cutting-12402
END:VEVENT

END:VCALENDAR
