BEGIN:VCALENDAR
VERSION:2.0
PRODID:-//ChamberMaster//Event Calendar 2.0//EN
METHOD:PUBLISH
X-PUBLISHED-TTL:P3D
REFRESH-INTERVAL:P3D
CALSCALE:GREGORIAN
BEGIN:VEVENT
DTSTART:20190615T110000Z
DTEND:20190615T150000Z
X-MICROSOFT-CDO-ALLDAYEVENT:FALSE
SUMMARY:Grand Opening South Boston Farmers Market
DESCRIPTION:Come celebrate our Grand Opening!\n\nLive music by The Blue Grass Five 10am-11am.\n\nCooking demo with Virginia Cooperative Extension Family Nutrition using produce on site at the market. \n\nFree bottled water\, coffee and lemonade. \n\nDoor prize drawings\n\nMaster Gardners Help Desk. \n\nSouth Boston Fire Truck. \n\nHalifax County-South Boston Public Library and the YMCA on site.
X-ALT-DESC;FMTTYPE=text/html:Come celebrate our Grand Opening!<br />\nLive music by The Blue Grass Five 10am-11am.<br />\nCooking demo with Virginia Cooperative Extension Family Nutrition using produce on site at the market.&nbsp\;<br />\nFree bottled water\, coffee and lemonade.&nbsp\;<br />\nDoor prize drawings<br />\nMaster Gardners Help Desk.&nbsp\;<br />\nSouth Boston Fire Truck.&nbsp\;<br />\nHalifax County-South Boston Public Library and the YMCA on site.&nbsp\;<br />\n&nbsp\;
LOCATION:
UID:e.845.13195
SEQUENCE:3
DTSTAMP:20260421T044820Z
URL:https://business.halifaxchamber.net/events/details/grand-opening-south-boston-farmers-market-13195
END:VEVENT

END:VCALENDAR
