BEGIN:VCALENDAR
VERSION:2.0
PRODID:-//ChamberMaster//Event Calendar 2.0//EN
METHOD:PUBLISH
X-PUBLISHED-TTL:P3D
REFRESH-INTERVAL:P3D
CALSCALE:GREGORIAN
BEGIN:VEVENT
DTSTART:20161207T180000Z
DTEND:20161207T210000Z
X-MICROSOFT-CDO-ALLDAYEVENT:FALSE
SUMMARY:Grand Springs In House Job Fair
DESCRIPTION:Grand Springs Job Fair\n\n\n\nRecruiting For The Following Positions:\n\nNight Shift Production Manager\n\nLine Leader\n\nLab Technician\n\nFork Lift Operators\n\nPacking Line Operators\n\nGeneral Laborers\n\nSanitation\n\nReceiving
X-ALT-DESC;FMTTYPE=text/html:<p>Grand Springs Job Fair<br />\n<br />\nRecruiting For The Following Positions:</p>\n\n<p>Night Shift Production Manager</p>\n\n<p>Line Leader</p>\n\n<p>Lab Technician</p>\n\n<p>Fork Lift Operators</p>\n\n<p>Packing Line Operators</p>\n\n<p>General Laborers</p>\n\n<p>Sanitation</p>\n\n<p>Receiving</p>\n\n<p>&nbsp\;</p>\n
LOCATION:Grand Springs Facility 2140 Mt. Carmel Road Alton\, VA 24520
UID:e.845.5748
SEQUENCE:3
DTSTAMP:20260424T193612Z
URL:https://business.halifaxchamber.net/events/details/grand-springs-in-house-job-fair-5748
END:VEVENT

END:VCALENDAR
