BEGIN:VCALENDAR
VERSION:2.0
PRODID:-//ChamberMaster//Event Calendar 2.0//EN
METHOD:PUBLISH
X-PUBLISHED-TTL:P3D
REFRESH-INTERVAL:P3D
CALSCALE:GREGORIAN
BEGIN:VEVENT
DTSTART:20181118T180000Z
DTEND:20181118T210000Z
X-MICROSOFT-CDO-ALLDAYEVENT:FALSE
SUMMARY:Gregory Florist Christmas Open House
DESCRIPTION:Gregory Florist Christmas Open House
X-ALT-DESC;FMTTYPE=text/html:Gregory Florist Christmas Open House
LOCATION:Gregory Florist 513 Edmunds St. South Boston\, VA
UID:e.845.8592
SEQUENCE:3
DTSTAMP:20260421T152858Z
URL:https://business.halifaxchamber.net/events/details/gregory-florist-christmas-open-house-8592
END:VEVENT

END:VCALENDAR
