BEGIN:VCALENDAR
VERSION:2.0
PRODID:-//ChamberMaster//Event Calendar 2.0//EN
METHOD:PUBLISH
X-PUBLISHED-TTL:P3D
REFRESH-INTERVAL:P3D
CALSCALE:GREGORIAN
BEGIN:VEVENT
DTSTART;VALUE=DATE:20190427
DTEND;VALUE=DATE:20190428
TRANSP:TRANSPARENT
X-MICROSOFT-CDO-ALLDAYEVENT:TRUE
SUMMARY:Halifax Barn Quilt Trail Event
DESCRIPTION:Halifax County Barn Quilt Trail annual viewing day. Visit the Barn Quilt pieces throughout Halifax County on this day. There will be special events along the trail\, including food\, drinks\, wine\, quilt painting painting\, quilt piece discussions. Start your day by picking up your trail map at the Town of Halifax Farmers Market or the Visitors Center.
X-ALT-DESC;FMTTYPE=text/html:Halifax County Barn Quilt Trail annual viewing day. Visit the Barn Quilt pieces throughout Halifax County on this day. There will be special events along the trail\, including food\, drinks\, wine\, quilt painting painting\, quilt piece discussions. Start your day by picking up your trail map at the Town of Halifax Farmers Market or the Visitors Center.
LOCATION:Halifax County
UID:e.845.11450
SEQUENCE:3
DTSTAMP:20260421T075853Z
URL:https://business.halifaxchamber.net/events/details/halifax-barn-quilt-trail-event-11450
END:VEVENT

END:VCALENDAR
