BEGIN:VCALENDAR
VERSION:2.0
PRODID:-//ChamberMaster//Event Calendar 2.0//EN
METHOD:PUBLISH
X-PUBLISHED-TTL:P3D
REFRESH-INTERVAL:P3D
CALSCALE:GREGORIAN
BEGIN:VEVENT
DTSTART:20190201T233000Z
DTEND:20190202T030000Z
X-MICROSOFT-CDO-ALLDAYEVENT:FALSE
SUMMARY:Halifax Cancer Association Raffle
DESCRIPTION:Mark your calendar for February 1\, 2019 to attend the $10\,000 raffle to benefit Halifax County Cancer Association\, Sons of the American Legion Squad #8\, and the Sons of the American Legion Squad 8 Softball team. Only 250 tickets are sold. Ticket Includes dinner for two and set ups. $100 per chance. Contact HCCA at 434-476-2714 to purchase your tickets today!!\n\n\n\nAll Attendees Must be 21 years or older
X-ALT-DESC;FMTTYPE=text/html:Mark your calendar for February 1\, 2019 to attend the $10\,000 raffle to benefit Halifax County Cancer Association\, Sons of the American Legion Squad #8\, and the Sons of the American Legion Squad 8 Softball team. Only 250 tickets are sold. Ticket Includes dinner for two and set ups. $100 per chance. Contact HCCA at 434-476-2714 to purchase your tickets today!!<br />\n<br />\nAll Attendees Must be 21 years or older
LOCATION:The Prizery South Boston\, VA 24592
UID:e.845.11707
SEQUENCE:3
DTSTAMP:20260421T122534Z
URL:https://business.halifaxchamber.net/events/details/halifax-cancer-association-raffle-11707
END:VEVENT

END:VCALENDAR
