BEGIN:VCALENDAR
VERSION:2.0
PRODID:-//ChamberMaster//Event Calendar 2.0//EN
METHOD:PUBLISH
X-PUBLISHED-TTL:P3D
REFRESH-INTERVAL:P3D
CALSCALE:GREGORIAN
BEGIN:VEVENT
DTSTART:20201031T180000Z
DTEND:20201031T210000Z
X-MICROSOFT-CDO-ALLDAYEVENT:FALSE
SUMMARY:Halifax Community Players Drive Thru Trick or Treat
DESCRIPTION:Halifax Community Players invites you to join them for a FREE and safe Halloween event! Our drive thru trick or treat will be held in the Halifax County High School parking lots. Candy will be individually bagged and all participants must remain inside their vehicles. For more information email halifaxcommunityplayers@gmail.com. If you are interested in setting up a candy station\, please email us!
X-ALT-DESC;FMTTYPE=text/html:Halifax Community Players invites you to join them for a FREE and safe Halloween event! Our drive thru trick or treat will be held in the Halifax County High School parking lots. Candy will be individually bagged and all participants must remain inside their vehicles. For more information email halifaxcommunityplayers@gmail.com. If you are interested in setting up a candy station\, please email us!
LOCATION:Halifax County High School parking lots
UID:e.845.17788
SEQUENCE:3
DTSTAMP:20260420T032706Z
URL:https://business.halifaxchamber.net/events/details/halifax-community-players-drive-thru-trick-or-treat-17788
END:VEVENT

END:VCALENDAR
