BEGIN:VCALENDAR
VERSION:2.0
PRODID:-//ChamberMaster//Event Calendar 2.0//EN
METHOD:PUBLISH
X-PUBLISHED-TTL:P3D
REFRESH-INTERVAL:P3D
CALSCALE:GREGORIAN
BEGIN:VEVENT
DTSTART:20170303T233000Z
DTEND:20170304T023000Z
X-MICROSOFT-CDO-ALLDAYEVENT:FALSE
SUMMARY:Halifax County Cancer Association $10\,000 cash raffle
DESCRIPTION:Looking for an exciting night out with dinner\, a chance to win $10\,000 and help a great cause? Halifax County Cancer Association and Sons of the American Legion Squad 8 and Sons of the American Legion 89 Softball team are hosting a $10\,000 cash raffle on Friday March 3\, at the Prizery in down-town South Boston.\n\nTicket holder must be present to win\, and all attendees must be 21 or older. Only 250 chances will be sold.
X-ALT-DESC;FMTTYPE=text/html:Looking for an exciting night out with dinner\, a chance to win $10\,000 and help a great cause? Halifax County Cancer Association and Sons of the American Legion Squad 8 and Sons of the American Legion 89 Softball team are hosting a $10\,000 cash raffle on Friday March 3\, at the&nbsp\;Prizery&nbsp\;in down-town South Boston.<br />\nTicket holder must be present to win\, and all attendees must be 21 or older. Only 250 chances will be sold.<br />\n<br />\n&nbsp\;
LOCATION:The Prizery 700 Bruce Street South Boston\, VA
UID:e.845.5813
SEQUENCE:3
DTSTAMP:20260424T133802Z
URL:https://business.halifaxchamber.net/events/details/halifax-county-cancer-association-10-000-cash-raffle-5813
END:VEVENT

END:VCALENDAR
