BEGIN:VCALENDAR
VERSION:2.0
PRODID:-//ChamberMaster//Event Calendar 2.0//EN
METHOD:PUBLISH
X-PUBLISHED-TTL:P3D
REFRESH-INTERVAL:P3D
CALSCALE:GREGORIAN
BEGIN:VEVENT
DTSTART:20210327T200000Z
DTEND:20210327T230000Z
X-MICROSOFT-CDO-ALLDAYEVENT:FALSE
SUMMARY:Halifax County Cancer Association Barbecue Fundraiser
DESCRIPTION:Support your local Halifax County Cancer Association at their barbecue fundraiser. \n\n$10 BBQ Plate includes baked beans\, slaw\, hushpuppies\, and a cookie\n\nBBQ sold by the pint - $10\n\nBBQ sold by the quart - $20
X-ALT-DESC;FMTTYPE=text/html:Support your local Halifax County Cancer Association at their barbecue fundraiser.&nbsp\;<br />\n$10 BBQ Plate includes baked beans\, slaw\, hushpuppies\, and a cookie<br />\nBBQ sold by the pint - $10<br />\nBBQ sold by the quart - $20
LOCATION:Jerry Epps Landscaping Co. 5240 Halifax Road Halifax\, VA 24558
UID:e.845.17884
SEQUENCE:3
DTSTAMP:20260419T183144Z
URL:https://business.halifaxchamber.net/events/details/halifax-county-cancer-association-barbecue-fundraiser-17884
END:VEVENT

END:VCALENDAR
