BEGIN:VCALENDAR
VERSION:2.0
PRODID:-//ChamberMaster//Event Calendar 2.0//EN
METHOD:PUBLISH
X-PUBLISHED-TTL:P3D
REFRESH-INTERVAL:P3D
CALSCALE:GREGORIAN
BEGIN:VEVENT
DTSTART:20190921T230000Z
DTEND:20190921T230000Z
X-MICROSOFT-CDO-ALLDAYEVENT:FALSE
SUMMARY:Halifax County Cancer Association Benefit Concert
DESCRIPTION:Rick Labate\, award-winning gospel pianist\, will have a concert benefiting Halifax County Cancer Association. A love offering to benefit HCCA will be taken.
X-ALT-DESC;FMTTYPE=text/html:Rick Labate\, award-winning gospel pianist\, will have a concert benefiting Halifax County Cancer Association. A love offering to benefit HCCA will be taken.
LOCATION:South Boston SDA Church 1617 Jeffress Blvd. South Boston\, VA 24592
UID:e.845.13431
SEQUENCE:3
DTSTAMP:20260420T234353Z
URL:https://business.halifaxchamber.net/events/details/halifax-county-cancer-association-benefit-concert-13431
END:VEVENT

END:VCALENDAR
