BEGIN:VCALENDAR
VERSION:2.0
PRODID:-//ChamberMaster//Event Calendar 2.0//EN
METHOD:PUBLISH
X-PUBLISHED-TTL:P3D
REFRESH-INTERVAL:P3D
CALSCALE:GREGORIAN
BEGIN:VEVENT
DTSTART:20200919T200000Z
DTEND:20200919T233000Z
X-MICROSOFT-CDO-ALLDAYEVENT:FALSE
SUMMARY:Halifax County Cancer Association Drive for Hope
DESCRIPTION:Halifax County Cancer Association will be hosting a passenger vehicle parade\, Drive for Hope\, on Saturday\, September 19 to raise funds to benefit the cancer patients of Halifax County\, VA. You are invited to decorate your passenger vehicle in honor or memory of a cancer survivor and participate in the parade. The parade will begin at 7:00.\n\nFrom 4 pm to 6 pm - BBQ plates will be sold for $10 each. You may pre-order plates here to assure you have a plate. Other plates will be sold at the event as long as supplies last.\n\n\n\nPre-order your BBQ and/or register your vehicle for the parade at https://hccahope.networkforgood.com/events/22995-drive-for-hope
X-ALT-DESC;FMTTYPE=text/html:<p style="box-sizing: border-box\; margin-top: 0px\; margin-bottom: 2.4rem\; color: rgb(77\, 77\, 77)\; font-family: &quot\;Open Sans&quot\;\, &quot\;Helvetica Neue&quot\;\, Arial\, sans-serif\; font-size: 16px\; background-color: rgb(247\, 247\, 247)\;"><span style="font-size:12px\;"><span style="color:#000000\;">Halifax County Cancer Association will be hosting a passenger vehicle parade\, Drive for Hope\, on Saturday\, September 19 to raise funds to benefit the cancer patients of Halifax County\, VA. You are invited to decorate your passenger vehicle in honor or memory of a cancer survivor and participate in the parade. The parade will begin at 7:00.</span></span></p>\n\n<p style="box-sizing: border-box\; margin-top: 0px\; margin-bottom: 2.4rem\; color: rgb(77\, 77\, 77)\; font-family: &quot\;Open Sans&quot\;\, &quot\;Helvetica Neue&quot\;\, Arial\, sans-serif\; font-size: 16px\; background-color: rgb(247\, 247\, 247)\;"><span style="font-size:12px\;"><span style="color:#000000\;">From 4 pm to 6 pm - BBQ plates will be sold for $10 each. You may pre-order plates here to assure you have a plate. Other plates will be sold at the event as long as supplies last.<br />\n<br />\nPre-order your BBQ and/or register your vehicle for the parade at&nbsp\;<a href="https://hccahope.networkforgood.com/events/22995-drive-for-hope">https://hccahope.networkforgood.com/events/22995-drive-for-hope</a></span></span></p>\n
LOCATION:Halifax County Middle School Parking Lot 1011 Middle School Circle South Boston\, VA 24592
UID:e.845.17760
SEQUENCE:3
DTSTAMP:20260420T033724Z
URL:https://business.halifaxchamber.net/events/details/halifax-county-cancer-association-drive-for-hope-17760
END:VEVENT

END:VCALENDAR
