BEGIN:VCALENDAR
VERSION:2.0
PRODID:-//ChamberMaster//Event Calendar 2.0//EN
METHOD:PUBLISH
X-PUBLISHED-TTL:P3D
REFRESH-INTERVAL:P3D
CALSCALE:GREGORIAN
BEGIN:VEVENT
DTSTART:20170401T130000Z
DTEND:20170401T190000Z
X-MICROSOFT-CDO-ALLDAYEVENT:FALSE
SUMMARY:Halifax County Cancer Association Open House
DESCRIPTION:Join the Halifax County Cancer Association for their Open House event!
X-ALT-DESC;FMTTYPE=text/html:Join the Halifax County Cancer Association for their Open House event!&nbsp\;
LOCATION:29 South Main St. Halifax\, VA 24558
UID:e.845.5816
SEQUENCE:3
DTSTAMP:20260424T114229Z
URL:https://business.halifaxchamber.net/events/details/halifax-county-cancer-association-open-house-5816
END:VEVENT

END:VCALENDAR
