BEGIN:VCALENDAR
VERSION:2.0
PRODID:-//ChamberMaster//Event Calendar 2.0//EN
METHOD:PUBLISH
X-PUBLISHED-TTL:P3D
REFRESH-INTERVAL:P3D
CALSCALE:GREGORIAN
BEGIN:VEVENT
DTSTART:20150919T130000Z
DTEND:20150919T180000Z
X-MICROSOFT-CDO-ALLDAYEVENT:FALSE
SUMMARY:Halifax County Cancer Association's 11th Annual Walk for Hope
DESCRIPTION:The 11th Annual Walk for Hope is a celebration of cancer survivors and a time of remembrance for those who have lost their battle with cancer and to raise funds to assist current cancer patients.\n\n\n\nThe Halifax County Cancer Association serves to benefit and provide services to those battling cancer in Halifax County\, create awareness regarding signs and symptoms of cancer and educate our community on the importance of early detection.
X-ALT-DESC;FMTTYPE=text/html:The 11th Annual Walk for Hope is a celebration of cancer survivors and a time of remembrance for those who have lost their battle with cancer and to raise funds to assist current cancer patients.<br />\n<br />\nThe Halifax County Cancer Association serves to benefit and provide services to those battling cancer in Halifax County\, create awareness regarding signs and symptoms of cancer and educate our community on the importance of early detection.
LOCATION:Halifax County Fairgrounds
UID:e.845.3330
SEQUENCE:3
DTSTAMP:20260425T210045Z
URL:https://business.halifaxchamber.net/events/details/halifax-county-cancer-association-s-11th-annual-walk-for-hope-09-19-2015-3330
END:VEVENT

END:VCALENDAR
