BEGIN:VCALENDAR
VERSION:2.0
PRODID:-//ChamberMaster//Event Calendar 2.0//EN
METHOD:PUBLISH
X-PUBLISHED-TTL:P3D
REFRESH-INTERVAL:P3D
CALSCALE:GREGORIAN
BEGIN:VEVENT
DTSTART:20181214T000000Z
DTEND:20181214T020000Z
X-MICROSOFT-CDO-ALLDAYEVENT:FALSE
SUMMARY:Halifax County Cancer Association Variety Night
DESCRIPTION:We are so excited to bring to you our Variety Night! 24K ... a Night of Magic & Fun! Thursday\, December 13 at Halifax County High School auditorium! Be sure to get there when the doors open at 5:45 pm to meet Paw Patrol!! Santa Clause will also be there for photo opportunities! The show begins at 7 pm!!\n\nWe will be creating a slide show of pictures to display during the show ... if you would like to share your journey with others (diagnosis\, treatment\, recovery\, healing\, cure). Anything you would like to share will be wonderful. If you would like to submit pictures in memory of a loved one\, please do so! Email all pictures to: hcca.hope@gmail.com - in the "subject" line of the email\, please type 24K variety night.\n\nWe hope to see you there!!
X-ALT-DESC;FMTTYPE=text/html:<p style="margin: 0px 0px 6px\; font-family: system-ui\, -apple-system\, BlinkMacSystemFont\, &quot\;.SFNSText-Regular&quot\;\, sans-serif\; caret-color: rgb(29\, 33\, 41)\; color: rgb(29\, 33\, 41)\; font-size: 14px\;">We are so excited to bring to you our Variety Night! 24K ... a Night of Magic &amp\; Fun! Thursday\, December 13 at Halifax County High School auditorium! Be sure to get there when the doors open at 5:45 pm to meet Paw Patrol!! Santa Clause will also be there for photo opportunities! The show begins at 7 pm!!</p>\n\n<p style="margin: 6px 0px\; font-family: system-ui\, -apple-system\, BlinkMacSystemFont\, &quot\;.SFNSText-Regular&quot\;\, sans-serif\; caret-color: rgb(29\, 33\, 41)\; color: rgb(29\, 33\, 41)\; font-size: 14px\;">We will be creating a slide show of pictures to display during the show ... if you would like to share your journey with others (diagnosis\, treatment\, recovery\, healing\, cure). Anything you would like to share will be wonderful. If you would like to submit pictures in memory of a loved one\, please do so! Email all pictures to: hcca.hope@gmail.com - in the &quot\;subject&quot\; line of the email\, please type 24K variety night.</p>\n\n<p style="margin: 6px 0px 0px\; display: inline\; font-family: system-ui\, -apple-system\, BlinkMacSystemFont\, &quot\;.SFNSText-Regular&quot\;\, sans-serif\; caret-color: rgb(29\, 33\, 41)\; color: rgb(29\, 33\, 41)\; font-size: 14px\;">We hope to see you there!!</p>\n
LOCATION:Halifax County High Scholl
UID:e.845.8561
SEQUENCE:3
DTSTAMP:20260421T140425Z
URL:https://business.halifaxchamber.net/events/details/halifax-county-cancer-association-variety-night-8561
END:VEVENT

END:VCALENDAR
