BEGIN:VCALENDAR
VERSION:2.0
PRODID:-//ChamberMaster//Event Calendar 2.0//EN
METHOD:PUBLISH
X-PUBLISHED-TTL:P3D
REFRESH-INTERVAL:P3D
CALSCALE:GREGORIAN
BEGIN:VEVENT
DTSTART:20190310T000000Z
DTEND:20190310T020000Z
X-MICROSOFT-CDO-ALLDAYEVENT:FALSE
SUMMARY:Halifax County Cancer Association Womanless Beauty Pageant
DESCRIPTION:Come out and support the Halifax County Cancer Associations Annual Womanless Beauty Pageant on March 9th in the Halifax County High School's Auditorium! A night filled with laughter and fun designed to assist in raising funds to continue supporting the cancer patients of Halifax County! Twelve "beautiful ladies" will strut their stuff in sports attire\, showcase their talent and then close out the night in their best evening gowns! You don't want to miss this show\, we will see you there!
X-ALT-DESC;FMTTYPE=text/html:<span style="caret-color: rgb(29\, 33\, 41)\; color: rgb(29\, 33\, 41)\; font-family: system-ui\, -apple-system\, BlinkMacSystemFont\, &quot\;.SFNSText-Regular&quot\;\, sans-serif\; font-size: 14px\; background-color: rgb(255\, 255\, 255)\;">Come out and support the Halifax County Cancer Associations Annual Womanless Beauty Pageant on March 9th in the Halifax County High School&rsquo\;s Auditorium! A night filled with laughter and fun designed to assist in raising funds to continue supporting the cancer patients of Halifax County! Twelve &ldquo\;beautiful ladies&rdquo\; will strut their stuff in sports attire\, showcase their talent and then close out the night in their best evening gowns! You don&rsquo\;t want to miss this show\, we will see you there!</span>
LOCATION:Halifax County High School
UID:e.845.12049
SEQUENCE:3
DTSTAMP:20260421T094205Z
URL:https://business.halifaxchamber.net/events/details/halifax-county-cancer-association-womanless-beauty-pageant-12049
END:VEVENT

END:VCALENDAR
