BEGIN:VCALENDAR
VERSION:2.0
PRODID:-//ChamberMaster//Event Calendar 2.0//EN
METHOD:PUBLISH
X-PUBLISHED-TTL:P3D
REFRESH-INTERVAL:P3D
CALSCALE:GREGORIAN
BEGIN:VEVENT
DTSTART;VALUE=DATE:20190316
DTEND;VALUE=DATE:20190317
TRANSP:TRANSPARENT
X-MICROSOFT-CDO-ALLDAYEVENT:TRUE
SUMMARY:Halifax County Clean Up Day
DESCRIPTION:Halifax County Clean Up Day!\n\nthis Saturday\, March 16th\n\nPick up your orange trash bags at Hunting Creek Vineyards.\n\nReturn your full trash back to Hunting Creek to receive a 10% off cou
X-ALT-DESC;FMTTYPE=text/html:<p style="margin: 0px 0px 6px\; font-family: system-ui\, -apple-system\, BlinkMacSystemFont\, &quot\;.SFNSText-Regular&quot\;\, sans-serif\; caret-color: rgb(29\, 33\, 41)\; color: rgb(29\, 33\, 41)\; font-size: 14px\;">Halifax County Clean Up Day!<br />\nthis Saturday\, March 16th</p>\n\n<p style="margin: 6px 0px 0px\; display: inline\; font-family: system-ui\, -apple-system\, BlinkMacSystemFont\, &quot\;.SFNSText-Regular&quot\;\, sans-serif\; caret-color: rgb(29\, 33\, 41)\; color: rgb(29\, 33\, 41)\; font-size: 14px\;">Pick up your orange trash bags at Hunting Creek Vineyards.<br />\nReturn your full trash back to Hunting Creek to receive a 10% off cou</p>\n
LOCATION:
UID:e.845.12353
SEQUENCE:3
DTSTAMP:20260421T093710Z
URL:https://business.halifaxchamber.net/events/details/halifax-county-clean-up-day-12353
END:VEVENT

END:VCALENDAR
