BEGIN:VCALENDAR
VERSION:2.0
PRODID:-//ChamberMaster//Event Calendar 2.0//EN
METHOD:PUBLISH
X-PUBLISHED-TTL:P3D
REFRESH-INTERVAL:P3D
CALSCALE:GREGORIAN
BEGIN:VEVENT
DTSTART:20200418T130000Z
DTEND:20200418T160000Z
X-MICROSOFT-CDO-ALLDAYEVENT:FALSE
SUMMARY:Halifax County Community Clean Up
DESCRIPTION:Come out on April 18th and pick up trash in your yard\, our parks\, parking lots\, and along our roads!  \n\n\n\nPick up your free orange trash bags at the Town of Halifax Farmers Market\, South Boston Farmers Market\, the South Boston-Halifax County Visitors Center or the Elmo Grocery.
X-ALT-DESC;FMTTYPE=text/html:Come out on April 18th and pick up trash in your yard\, our parks\, parking lots\, and along our roads!&nbsp\;&nbsp\;<br />\n<br />\nPick up your free orange trash bags at the Town of Halifax Farmers Market\, South Boston Farmers Market\, the South Boston-Halifax County Visitors Center or the Elmo Grocery.
LOCATION:
UID:e.845.17505
SEQUENCE:3
DTSTAMP:20260420T114358Z
URL:https://business.halifaxchamber.net/events/details/halifax-county-community-clean-up-17505
END:VEVENT

END:VCALENDAR
