BEGIN:VCALENDAR
VERSION:2.0
PRODID:-//ChamberMaster//Event Calendar 2.0//EN
METHOD:PUBLISH
X-PUBLISHED-TTL:P3D
REFRESH-INTERVAL:P3D
CALSCALE:GREGORIAN
BEGIN:VEVENT
DTSTART:20210417T130000Z
DTEND:20210417T210000Z
X-MICROSOFT-CDO-ALLDAYEVENT:FALSE
SUMMARY:Halifax County Community Clean Up
DESCRIPTION:Come out on April 17th and pick up trash in your yard\, our parks\, parking lots\, and along our roads!  \n\n\n\nPick up your free orange trash bags starting April 12th!\n\n\n\nSign up at http://www.halifaxchamber.net/CommunityCleanUp
X-ALT-DESC;FMTTYPE=text/html:Come out on April 17th and pick up trash in your yard\, our parks\, parking lots\, and along our roads!&nbsp\;&nbsp\;<br />\n<br />\nPick up your free orange trash bags starting April 12th!<br />\n<br />\nSign up at&nbsp\;<a href="http://www.halifaxchamber.net/CommunityCleanUp">http://www.halifaxchamber.net/CommunityCleanUp</a>
LOCATION:
UID:e.845.17929
SEQUENCE:3
DTSTAMP:20260419T152830Z
URL:https://business.halifaxchamber.net/events/details/halifax-county-community-clean-up-17929
END:VEVENT

END:VCALENDAR
