BEGIN:VCALENDAR
VERSION:2.0
PRODID:-//ChamberMaster//Event Calendar 2.0//EN
METHOD:PUBLISH
X-PUBLISHED-TTL:P3D
REFRESH-INTERVAL:P3D
CALSCALE:GREGORIAN
BEGIN:VEVENT
DTSTART:20190109T223000Z
DTEND:20190109T233000Z
X-MICROSOFT-CDO-ALLDAYEVENT:FALSE
SUMMARY:Halifax County Community Meeting
DESCRIPTION:Community partners have come together to conduct a six-phase research and strategic planning process. A diverse steering committee comprised of representatives from the public\, private\, and non-profit sectors are guiding this process and ensuring that it lays a foundation that allows people and businesses to thrive and wealth to accumulate.\n\n\n\nPhase 1: Community Assessment - many of you participated in our online survey\, interviews\, and focus groups to give us your input on Halifax County. We thank you for that! The community assessment provides a detailed evaluation of Halifax County as a place to live\, work\, and do business. Market Street Services complemented the input received with an analysis of demographic\, economic\, socioeconomic\, and quality of life data trends.\n\n\n\nThis community meeting is being held to release the community assessment to the public. We hope you will join us on Wednesday\, January 9\, 5:30 - 6:30 pm. The meeting will be held in the Southern Virginia Higher Education Center's Innovation Center.
X-ALT-DESC;FMTTYPE=text/html:<span style="caret-color: rgb(29\, 33\, 41)\; color: rgb(29\, 33\, 41)\; font-family: system-ui\, -apple-system\, BlinkMacSystemFont\, &quot\;.SFNSText-Regular&quot\;\, sans-serif\; font-size: 14px\; white-space: pre-wrap\;">Community partners have come together to conduct a six-phase research and strategic planning process. A diverse steering committee comprised of representatives from the public\, private\, and non-profit sectors are guiding this process and ensuring that it lays a foundation that allows people and businesses to thrive and wealth to accumulate.</span><br style="caret-color: rgb(29\, 33\, 41)\; color: rgb(29\, 33\, 41)\; font-family: system-ui\, -apple-system\, BlinkMacSystemFont\, &quot\;.SFNSText-Regular&quot\;\, sans-serif\; font-size: 14px\; white-space: pre-wrap\;" />\n<br style="caret-color: rgb(29\, 33\, 41)\; color: rgb(29\, 33\, 41)\; font-family: system-ui\, -apple-system\, BlinkMacSystemFont\, &quot\;.SFNSText-Regular&quot\;\, sans-serif\; font-size: 14px\; white-space: pre-wrap\;" />\n<span style="caret-color: rgb(29\, 33\, 41)\; color: rgb(29\, 33\, 41)\; font-family: system-ui\, -apple-system\, BlinkMacSystemFont\, &quot\;.SFNSText-Regular&quot\;\, sans-serif\; font-size: 14px\; white-space: pre-wrap\;">Phase 1: Community Assessment - many of you participated in our online survey\, interviews\, and focus groups to give us your input on Halifax County. We thank you for that! The community assessment provides a detailed evaluation of Halifax County as a place to live\, work\, and do business. Market Street Services complemented the input received with an analysis of demographic\, economic\, socioeconomic\, and quality of life data trends.</span><br style="caret-color: rgb(29\, 33\, 41)\; color: rgb(29\, 33\, 41)\; font-family: system-ui\, -apple-system\, BlinkMacSystemFont\, &quot\;.SFNSText-Regular&quot\;\, sans-serif\; font-size: 14px\; white-space: pre-wrap\;" />\n<br style="caret-color: rgb(29\, 33\, 41)\; color: rgb(29\, 33\, 41)\; font-family: system-ui\, -apple-system\, BlinkMacSystemFont\, &quot\;.SFNSText-Regular&quot\;\, sans-serif\; font-size: 14px\; white-space: pre-wrap\;" />\n<span style="caret-color: rgb(29\, 33\, 41)\; color: rgb(29\, 33\, 41)\; font-family: system-ui\, -apple-system\, BlinkMacSystemFont\, &quot\;.SFNSText-Regular&quot\;\, sans-serif\; font-size: 14px\; white-space: pre-wrap\;">This community meeting is being held to release the community assessment to the public. We hope you will join us on Wednesday\, January 9\, 5:30 - 6:30 pm. The meeting will be held in the Southern Virginia Higher Education Center&#39\;s Innovation Center.</span>
LOCATION:Southern Virginia Higher Education Center's Innovation Center
UID:e.845.11686
SEQUENCE:3
DTSTAMP:20260421T135938Z
URL:https://business.halifaxchamber.net/events/details/halifax-county-community-meeting-11686
END:VEVENT

END:VCALENDAR
