BEGIN:VCALENDAR
VERSION:2.0
PRODID:-//ChamberMaster//Event Calendar 2.0//EN
METHOD:PUBLISH
X-PUBLISHED-TTL:P3D
REFRESH-INTERVAL:P3D
CALSCALE:GREGORIAN
BEGIN:VEVENT
DTSTART:20190207T223000Z
DTEND:20190208T010000Z
X-MICROSOFT-CDO-ALLDAYEVENT:FALSE
SUMMARY:Halifax County Dixie Youth Registration 2/7/19
DESCRIPTION:Halifax County Dixie Youth Baseball Sign Ups\n\nSignups are for ages 4-12\n\nChild must turn 4 by May 1 and not turn 13 till after April 30\n\n\n\nPlease bring a copy of the Birth Certificate (not original) for each child registering
X-ALT-DESC;FMTTYPE=text/html:Halifax County Dixie Youth Baseball Sign Ups<br />\nSignups are for ages 4-12<br />\nChild must turn 4 by May 1 and not turn 13 till after April 30<br />\n<br />\nPlease bring a copy of the Birth Certificate (not original) for each child registering
LOCATION:World of Sports
UID:e.845.11995
SEQUENCE:3
DTSTAMP:20260421T122534Z
URL:https://business.halifaxchamber.net/events/details/halifax-county-dixie-youth-registration-2-7-19-11995
END:VEVENT

END:VCALENDAR
