BEGIN:VCALENDAR
VERSION:2.0
PRODID:-//ChamberMaster//Event Calendar 2.0//EN
METHOD:PUBLISH
X-PUBLISHED-TTL:P3D
REFRESH-INTERVAL:P3D
CALSCALE:GREGORIAN
BEGIN:VEVENT
DTSTART;VALUE=DATE:20191001
DTEND;VALUE=DATE:20191006
TRANSP:TRANSPARENT
X-MICROSOFT-CDO-ALLDAYEVENT:TRUE
SUMMARY:Halifax County Fair
DESCRIPTION:Come out for Buddy Night on Tuesday\, Wrist Band nights Wednesday & Thursday\, Military- Law Enforcement and EMS Night on Friday and Senior Day on Saturday. Don't forget to stop in the exhibit hall and see all the vendors. Get a SoBo potato\, cinnamon roll\, cotton candy and candy apple.
X-ALT-DESC;FMTTYPE=text/html:<span style="font-family:arial\;"><span style="font-size:12px\;">Come out for Buddy Night on Tuesday\, Wrist Band nights Wednesday &amp\; Thursday\, Military- Law Enforcement and EMS Night on Friday and Senior Day on Saturday. Don&#39\;t forget to stop in the exhibit hall and see all the vendors. Get a SoBo potato\, cinnamon roll\, cotton candy and candy apple.</span></span>
LOCATION:Halifax County Fairgrounds 1188 James D. Hagood Highway South Boston\, VA 24592
UID:e.845.13436
SEQUENCE:3
DTSTAMP:20260420T214755Z
URL:https://business.halifaxchamber.net/events/details/halifax-county-fair-13436
END:VEVENT

END:VCALENDAR
