BEGIN:VCALENDAR
VERSION:2.0
PRODID:-//ChamberMaster//Event Calendar 2.0//EN
METHOD:PUBLISH
X-PUBLISHED-TTL:P3D
REFRESH-INTERVAL:P3D
CALSCALE:GREGORIAN
BEGIN:VEVENT
DTSTART:20150717T150000Z
DTEND:20150717T180000Z
X-MICROSOFT-CDO-ALLDAYEVENT:FALSE
SUMMARY:Halifax County Farm Bureau Customer Appreciation Day
DESCRIPTION:The Halifax County Farm Bureau Insurance Co. and Federation will be hosting a Customer Appreciation Day.\n\nFree Lunch\, Lots of Door prizes\, Membership Giveaways\n\n\n4 Agents to help you with all your Home\, Auto\, Farm\, and Life Insurance needs and Member Service Specialists to assist you with all your Health Insurance needs\n\n \n\nA Field Service Specialist will be there to show you The Membership Advantage. Saving you money at Restaurants\, Hotels\, Car Rental\, Purchasing new Vehicles.\n\n \n\nWHLF 95.3 will be doing a live broadcast so listen close you may hear your name called\, when your name is drawn for Prizes!\n\n \n\nCome out and get "The Real Story about Farm Bureau\, Its not just for Farmers"
X-ALT-DESC;FMTTYPE=text/html:<p style="font: 14px/25.76px helvetica\, arial\, sans-serif\; margin: 6px 0px\; text-align: left\; color: rgb(20\, 24\, 35)\; text-transform: none\; text-indent: 0px\; letter-spacing: normal\; word-spacing: 0px\; white-space: normal\; widows: 1\; font-size-adjust: none\; font-stretch: normal\; background-color: rgb(255\, 255\, 255)\; -webkit-text-stroke-width: 0px\;">The Halifax County Farm Bureau Insurance Co. and Federation will be hosting a Customer Appreciation Day.</p>\n\n<p style="font: 14px/25.76px helvetica\, arial\, sans-serif\; margin: 6px 0px\; text-align: left\; color: rgb(20\, 24\, 35)\; text-transform: none\; text-indent: 0px\; letter-spacing: normal\; word-spacing: 0px\; display: block\; white-space: normal\; widows: 1\; font-size-adjust: none\; font-stretch: normal\; background-color: rgb(255\, 255\, 255)\; -webkit-text-stroke-width: 0px\;">Free Lunch\, Lots of Door prizes\, Membership Giveaways</p>\n\n<div class="text_exposed_show" style="font: 14px/25.76px helvetica\, arial\, sans-serif\; text-align: left\; color: rgb(20\, 24\, 35)\; text-transform: none\; text-indent: 0px\; letter-spacing: normal\; word-spacing: 0px\; display: inline\; white-space: normal\; widows: 1\; font-size-adjust: none\; font-stretch: normal\; background-color: rgb(255\, 255\, 255)\; -webkit-text-stroke-width: 0px\;">\n<p style="margin: 0px 0px 6px\;">4 Agents to help you with all your Home\, Auto\, Farm\, and Life Insurance needs and&nbsp\;Member Service Specialists to assist you with all your Health Insurance needs</p>\n\n<p style="margin: 6px 0px\;">&nbsp\;</p>\n\n<p style="margin: 6px 0px\;">A Field Service Specialist will be there to show you The Membership Advantage. Saving you money at Restaurants\, Hotels\, Car Rental\, Purchasing new Vehicles.<br />\n&nbsp\;</p>\n\n<p style="margin: 6px 0px\;">WHLF 95.3 will be doing a live broadcast so listen close you may hear your name called\, when your name is drawn for Prizes!<br />\n&nbsp\;</p>\n\n<p style="margin: 6px 0px\;">Come out and get &quot\;The Real Story about Farm Bureau\, Its not just for Farmers&quot\;</p>\n</div>\n
LOCATION:4000 Halifax Road (next to Burger King in Centerville)
UID:e.845.3325
SEQUENCE:3
DTSTAMP:20260425T223611Z
URL:https://business.halifaxchamber.net/events/details/halifax-county-farm-bureau-customer-appreciation-day-07-17-2015-3325
END:VEVENT

END:VCALENDAR
