BEGIN:VCALENDAR
VERSION:2.0
PRODID:-//ChamberMaster//Event Calendar 2.0//EN
METHOD:PUBLISH
X-PUBLISHED-TTL:P3D
REFRESH-INTERVAL:P3D
CALSCALE:GREGORIAN
BEGIN:VEVENT
DTSTART:20190601T150000Z
DTEND:20190601T220000Z
X-MICROSOFT-CDO-ALLDAYEVENT:FALSE
SUMMARY:Halifax County High School - End of School Year Bash
DESCRIPTION:Everyone's invited!\n\nA family fun day including:\n\n	Delicious food\n	Inflatables\n	Climbing wall\n	Vintage cars\n	50-50 Drawing\n	Corn Hole Competition\n	Live Entertainment
X-ALT-DESC;FMTTYPE=text/html:Everyone&#39\;s invited!<br />\nA family fun day including:\n<ul>\n	<li>Delicious food</li>\n	<li>Inflatables</li>\n	<li>Climbing wall</li>\n	<li>Vintage cars</li>\n	<li>50-50 Drawing</li>\n	<li>Corn Hole Competition</li>\n	<li>Live Entertainment</li>\n</ul>\n
LOCATION:Halifax County High School 1 High School Circle South Boston\, VA 24592
UID:e.845.12489
SEQUENCE:3
DTSTAMP:20260421T044552Z
URL:https://business.halifaxchamber.net/events/details/halifax-county-high-school-end-of-school-year-bash-12489
END:VEVENT

END:VCALENDAR
