BEGIN:VCALENDAR
VERSION:2.0
PRODID:-//ChamberMaster//Event Calendar 2.0//EN
METHOD:PUBLISH
X-PUBLISHED-TTL:P3D
REFRESH-INTERVAL:P3D
CALSCALE:GREGORIAN
BEGIN:VEVENT
DTSTART:20170502T174500Z
DTEND:20170502T191500Z
X-MICROSOFT-CDO-ALLDAYEVENT:FALSE
SUMMARY:Halifax County High School Job Fair for Seniors
DESCRIPTION:The Halifax County High School will be hosting a Job Fair for high school seniors on Tuesday\, May 2nd from 1:45 - 3:15 in the high school gym. \n\n\n\nIf you are interested in participating in this event please call or e-mail Dr. Debra B. Woltz at (434) 575-2013 or dwoltz@halifax.k12.va.us.
X-ALT-DESC;FMTTYPE=text/html:The Halifax County High School will be hosting a Job Fair for high school seniors on Tuesday\, May 2nd from 1:45 - 3:15 in the high school gym.&nbsp\;<br />\n<br />\nIf you are interested in participating in this event please call or e-mail Dr. Debra B. Woltz at (434) 575-2013 or dwoltz@halifax.k12.va.us.
LOCATION:Halifax County High School Gymnasium 1 High School Circle South Boston\, VA
UID:e.845.5896
SEQUENCE:3
DTSTAMP:20260422T233035Z
URL:https://business.halifaxchamber.net/events/details/halifax-county-high-school-job-fair-for-seniors-5896
END:VEVENT

END:VCALENDAR
