BEGIN:VCALENDAR
VERSION:2.0
PRODID:-//ChamberMaster//Event Calendar 2.0//EN
METHOD:PUBLISH
X-PUBLISHED-TTL:P3D
REFRESH-INTERVAL:P3D
CALSCALE:GREGORIAN
BEGIN:VEVENT
DTSTART:20191117T180000Z
DTEND:20191117T180000Z
X-MICROSOFT-CDO-ALLDAYEVENT:FALSE
SUMMARY:Halifax County Historical Society Christmas Open House
DESCRIPTION:Join Halifax County Historical Society and Halifax Village Association for their Christmas Open House. Tours will be underway\, research collections will be displayed\, and some local history publications and other gift items will be on sale.
X-ALT-DESC;FMTTYPE=text/html:Join Halifax County Historical Society and Halifax Village Association for their Christmas Open House. Tours will be underway\, research collections will be displayed\, and some local history publications and other gift items will be on sale.
LOCATION:Chaffin House 110 Mountain Road Halifax\, VA 24558
UID:e.845.15543
SEQUENCE:3
DTSTAMP:20260420T200326Z
URL:https://business.halifaxchamber.net/events/details/halifax-county-historical-society-christmas-open-house-15543
END:VEVENT

END:VCALENDAR
