BEGIN:VCALENDAR
VERSION:2.0
PRODID:-//ChamberMaster//Event Calendar 2.0//EN
METHOD:PUBLISH
X-PUBLISHED-TTL:P3D
REFRESH-INTERVAL:P3D
CALSCALE:GREGORIAN
BEGIN:VEVENT
DTSTART:20201024T120000Z
DTEND:20201024T170000Z
X-MICROSOFT-CDO-ALLDAYEVENT:FALSE
SUMMARY:Halifax County Historical Society Yard Sale
DESCRIPTION:If you have items to donate please call 434.579.0083 for drop off details.
X-ALT-DESC;FMTTYPE=text/html:If you have items to donate please call 434.579.0083 for drop off details.
LOCATION:
UID:e.845.17795
SEQUENCE:3
DTSTAMP:20260420T013316Z
URL:https://business.halifaxchamber.net/events/details/halifax-county-historical-society-yard-sale-17795
END:VEVENT

END:VCALENDAR
