BEGIN:VCALENDAR
VERSION:2.0
PRODID:-//ChamberMaster//Event Calendar 2.0//EN
METHOD:PUBLISH
X-PUBLISHED-TTL:P3D
REFRESH-INTERVAL:P3D
CALSCALE:GREGORIAN
BEGIN:VEVENT
DTSTART:20180807T210000Z
DTEND:20180807T230000Z
X-MICROSOFT-CDO-ALLDAYEVENT:FALSE
SUMMARY:Halifax County National Night Out
DESCRIPTION:Our Annual Halifax County National Night Out Celebration is scheduled for August 7\, 2018. This year's event is being held at Halifax County Fairgrounds with a start time of 5:00 PM\, and the parade being held at 5:30 PM. Public safety officials from our community have been busy planning this event. National Night Out is an annual event that is held the first Tuesday in August to promote community partnerships that work towards the goal of building a safer community.
X-ALT-DESC;FMTTYPE=text/html:<span style="color: rgb(29\, 33\, 41)\; font-family: system-ui\, -apple-system\, system-ui\, &quot\;.SFNSText-Regular&quot\;\, sans-serif\; font-size: 14px\; font-variant-ligatures: normal\; orphans: 2\; widows: 2\; background-color: rgb(255\, 255\, 255)\;">Our Annual Halifax County National Night Out Celebration is scheduled for August 7\, 2018. This year&#39\;s event is being held at Halifax County Fairgrounds with a start time of 5:00 PM\, and the parade being held at 5:30 PM. Public safety officials from our community have been busy planning this event. National Night Out is an annual event that is held the first Tuesday in August to promote community partnerships that work towards the goal of building a safer community.</span>
LOCATION:Halifax County Fairgrounds
UID:e.845.8480
SEQUENCE:3
DTSTAMP:20260421T204135Z
URL:https://business.halifaxchamber.net/events/details/halifax-county-national-night-out-8480
END:VEVENT

END:VCALENDAR
