BEGIN:VCALENDAR
VERSION:2.0
PRODID:-//ChamberMaster//Event Calendar 2.0//EN
METHOD:PUBLISH
X-PUBLISHED-TTL:P3D
REFRESH-INTERVAL:P3D
CALSCALE:GREGORIAN
BEGIN:VEVENT
DTSTART:20171010T220000Z
DTEND:20171010T230000Z
X-MICROSOFT-CDO-ALLDAYEVENT:FALSE
SUMMARY:Halifax County Public School Community Forums
DESCRIPTION:You are invited to attend Community Forums to discuss the School Superintendent's goals for the school division and other topics of interest.
X-ALT-DESC;FMTTYPE=text/html:You are invited to attend Community Forums to discuss the School Superintendent&#39\;s goals for the school division and other topics of interest.
LOCATION:Sydnor Jennings Elementary School 1011 Sydnor Jennings Road Nathalie\, VA
UID:e.845.7107
SEQUENCE:3
DTSTAMP:20260422T135444Z
URL:https://business.halifaxchamber.net/events/details/halifax-county-public-school-community-forums-7107
END:VEVENT

END:VCALENDAR
