BEGIN:VCALENDAR
VERSION:2.0
PRODID:-//ChamberMaster//Event Calendar 2.0//EN
METHOD:PUBLISH
X-PUBLISHED-TTL:P3D
REFRESH-INTERVAL:P3D
CALSCALE:GREGORIAN
BEGIN:VEVENT
DTSTART:20190316T130000Z
DTEND:20190316T160000Z
X-MICROSOFT-CDO-ALLDAYEVENT:FALSE
SUMMARY:Halifax County Public School System Job Fair
DESCRIPTION:Seeking certified and classified employees for the 2019-2020 school year. Some positions are available immediately. Want a career change\, come and get information on becoming a teacher! Interviewing and accepting applications for the following:\n\nElementary\, Secondary\, and Special Education Teachers\n\nSubstitutes ( Teachers\, Secretaries\, and Custodians)\n\nParaprofessionals\n\nBus Drivers\, Substitute Bus Drivers\, and Maintenance Employees\n\n\n\npre-register at www.halifax.k12.va.us
X-ALT-DESC;FMTTYPE=text/html:Seeking certified and classified employees for the 2019-2020 school year. Some positions are available immediately. Want a career change\, come and get information on becoming a teacher! Interviewing and accepting applications for the following:<br />\nElementary\, Secondary\, and Special Education Teachers<br />\nSubstitutes ( Teachers\, Secretaries\, and Custodians)<br />\nParaprofessionals<br />\nBus Drivers\, Substitute Bus Drivers\, and Maintenance Employees<br />\n<br />\npre-register at www.halifax.k12.va.us
LOCATION:Halifax County Middle School - Lobby 1011 Middle School Circle South Boston\, VA 24592
UID:e.845.11705
SEQUENCE:3
DTSTAMP:20260421T093834Z
URL:https://business.halifaxchamber.net/events/details/halifax-county-public-school-system-job-fair-11705
END:VEVENT

END:VCALENDAR
